BEGIN:VCALENDAR
VERSION:2.0
PRODID:-//Soif de soi par Tatiana - ECPv6.14.2//NONSGML v1.0//EN
CALSCALE:GREGORIAN
METHOD:PUBLISH
X-ORIGINAL-URL:https://soif-de-soi.com
X-WR-CALDESC:Évènements pour Soif de soi par Tatiana
REFRESH-INTERVAL;VALUE=DURATION:PT1H
X-Robots-Tag:noindex
X-PUBLISHED-TTL:PT1H
BEGIN:VTIMEZONE
TZID:Europe/Paris
BEGIN:DAYLIGHT
TZOFFSETFROM:+0100
TZOFFSETTO:+0200
TZNAME:CEST
DTSTART:20250330T010000
END:DAYLIGHT
BEGIN:STANDARD
TZOFFSETFROM:+0200
TZOFFSETTO:+0100
TZNAME:CET
DTSTART:20251026T010000
END:STANDARD
BEGIN:DAYLIGHT
TZOFFSETFROM:+0100
TZOFFSETTO:+0200
TZNAME:CEST
DTSTART:20260329T010000
END:DAYLIGHT
BEGIN:STANDARD
TZOFFSETFROM:+0200
TZOFFSETTO:+0100
TZNAME:CET
DTSTART:20261025T010000
END:STANDARD
END:VTIMEZONE
BEGIN:VEVENT
DTSTART;TZID=Europe/Paris:20260419T093000
DTEND;TZID=Europe/Paris:20260419T173000
DTSTAMP:20260421T103538
CREATED:20250804T090514Z
LAST-MODIFIED:20250804T090514Z
UID:2646-1776591000-1776619800@soif-de-soi.com
SUMMARY:Constellation familiale et systémique en groupe
DESCRIPTION:En groupe\, les constellations familiales et systémiques déploient une force collective qui révèle et libère les schémas transgénérationnels. Chaque participant\, qu’il constelle ou représente\, entre dans un champ de guérison puissant et transformateur.  \n\nEn savoir plus sur la Constellations familiales et systémiques
URL:https://soif-de-soi.com/event/constellation-4/
LOCATION:La Passerelle – Centre de Bien-Être et d’Éveil\, 51 chemin de Bos\, Saint Médard en Salles\, 33160\, France
CATEGORIES:Constellation familiale et systémique
ATTACH;FMTTYPE=image/jpeg:https://soif-de-soi.com/wp-content/uploads/2025/07/Dates-constellations-familiales-scaled.jpg
END:VEVENT
BEGIN:VEVENT
DTSTART;VALUE=DATE:20260320
DTEND;VALUE=DATE:20260323
DTSTAMP:20260421T103538
CREATED:20250731T151034Z
LAST-MODIFIED:20250804T084659Z
UID:2556-1773964800-1774223999@soif-de-soi.com
SUMMARY:« Réconcilier le masculin et le féminin en soi » – Retraite
DESCRIPTION:Retraites immersives\n– 3 jours pour restaurer l’harmonie intérieure entre le Ying et le Yang. \n– Du 20 au 22 mars 2026\n– A Cézac à 40 min de Bordeaux\n\n \nEn savoir plus sur les retraites immersives
URL:https://soif-de-soi.com/event/reconcilier-masculin-feminin/
CATEGORIES:Retraites immersives
ATTACH;FMTTYPE=image/jpeg:https://soif-de-soi.com/wp-content/uploads/2022/05/hypnose-enfant-1.jpg
END:VEVENT
BEGIN:VEVENT
DTSTART;TZID=Europe/Paris:20260308T093000
DTEND;TZID=Europe/Paris:20260308T173000
DTSTAMP:20260421T103538
CREATED:20250804T090415Z
LAST-MODIFIED:20250804T090433Z
UID:2644-1772962200-1772991000@soif-de-soi.com
SUMMARY:Constellation familiale et systémique en groupe
DESCRIPTION:En groupe\, les constellations familiales et systémiques déploient une force collective qui révèle et libère les schémas transgénérationnels. Chaque participant\, qu’il constelle ou représente\, entre dans un champ de guérison puissant et transformateur.  \n\nEn savoir plus sur la Constellations familiales et systémiques
URL:https://soif-de-soi.com/event/constellation-3/
LOCATION:La Passerelle – Centre de Bien-Être et d’Éveil\, 51 chemin de Bos\, Saint Médard en Salles\, 33160\, France
CATEGORIES:Constellation familiale et systémique
ATTACH;FMTTYPE=image/jpeg:https://soif-de-soi.com/wp-content/uploads/2025/07/Dates-constellations-familiales-scaled.jpg
END:VEVENT
BEGIN:VEVENT
DTSTART;TZID=Europe/Paris:20260208T093000
DTEND;TZID=Europe/Paris:20260208T093000
DTSTAMP:20260421T103538
CREATED:20250804T090339Z
LAST-MODIFIED:20250804T090339Z
UID:2642-1770543000-1770543000@soif-de-soi.com
SUMMARY:Constellation familiale et systémique en groupe
DESCRIPTION:En groupe\, les constellations familiales et systémiques déploient une force collective qui révèle et libère les schémas transgénérationnels. Chaque participant\, qu’il constelle ou représente\, entre dans un champ de guérison puissant et transformateur.  \n\nEn savoir plus sur la Constellations familiales et systémiques
URL:https://soif-de-soi.com/event/constellation-2-2-2-3/
LOCATION:La Passerelle – Centre de Bien-Être et d’Éveil\, 51 chemin de Bos\, Saint Médard en Salles\, 33160\, France
CATEGORIES:Constellation familiale et systémique
ATTACH;FMTTYPE=image/jpeg:https://soif-de-soi.com/wp-content/uploads/2025/07/Dates-constellations-familiales-scaled.jpg
END:VEVENT
BEGIN:VEVENT
DTSTART;VALUE=DATE:20260123
DTEND;VALUE=DATE:20260127
DTSTAMP:20260421T103538
CREATED:20250731T150722Z
LAST-MODIFIED:20250804T084634Z
UID:2554-1769126400-1769471999@soif-de-soi.com
SUMMARY:« Cheminer vers son âme » – Retraite
DESCRIPTION:Retraites immersives\n– 3 jours pour une immersion spirituelle pour se connecter à plus grand que soi.  \n– Du 23 au 25 janvier 2026\n– A Cézac à 40 min de Bordeaux\n\n \nEn savoir plus sur les retraites immersives
URL:https://soif-de-soi.com/event/cheminer-vers-son-ame/
CATEGORIES:Retraites immersives
ATTACH;FMTTYPE=image/jpeg:https://soif-de-soi.com/wp-content/uploads/2021/07/Regression-vies-anterieures.jpg
END:VEVENT
BEGIN:VEVENT
DTSTART;TZID=Europe/Paris:20260111T093000
DTEND;TZID=Europe/Paris:20260111T093000
DTSTAMP:20260421T103538
CREATED:20250804T090303Z
LAST-MODIFIED:20250804T090303Z
UID:2640-1768123800-1768123800@soif-de-soi.com
SUMMARY:Constellation familiale et systémique en groupe
DESCRIPTION:En groupe\, les constellations familiales et systémiques déploient une force collective qui révèle et libère les schémas transgénérationnels. Chaque participant\, qu’il constelle ou représente\, entre dans un champ de guérison puissant et transformateur.  \n\nEn savoir plus sur la Constellations familiales et systémiques
URL:https://soif-de-soi.com/event/constellation-2-2-2-2/
LOCATION:La Passerelle – Centre de Bien-Être et d’Éveil\, 51 chemin de Bos\, Saint Médard en Salles\, 33160\, France
CATEGORIES:Constellation familiale et systémique
ATTACH;FMTTYPE=image/jpeg:https://soif-de-soi.com/wp-content/uploads/2025/07/Dates-constellations-familiales-scaled.jpg
END:VEVENT
BEGIN:VEVENT
DTSTART;TZID=Europe/Paris:20251228T093000
DTEND;TZID=Europe/Paris:20251228T173000
DTSTAMP:20260421T103538
CREATED:20250804T090235Z
LAST-MODIFIED:20250804T090235Z
UID:2638-1766914200-1766943000@soif-de-soi.com
SUMMARY:Constellation familiale et systémique en groupe
DESCRIPTION:En groupe\, les constellations familiales et systémiques déploient une force collective qui révèle et libère les schémas transgénérationnels. Chaque participant\, qu’il constelle ou représente\, entre dans un champ de guérison puissant et transformateur.  \n\nEn savoir plus sur la Constellations familiales et systémiques
URL:https://soif-de-soi.com/event/constellation-2-3/
LOCATION:La Passerelle – Centre de Bien-Être et d’Éveil\, 51 chemin de Bos\, Saint Médard en Salles\, 33160\, France
CATEGORIES:Constellation familiale et systémique
ATTACH;FMTTYPE=image/jpeg:https://soif-de-soi.com/wp-content/uploads/2025/07/Dates-constellations-familiales-scaled.jpg
END:VEVENT
BEGIN:VEVENT
DTSTART;VALUE=DATE:20251222
DTEND;VALUE=DATE:20251227
DTSTAMP:20260421T103538
CREATED:20250731T150143Z
LAST-MODIFIED:20250804T084550Z
UID:2552-1766361600-1766793599@soif-de-soi.com
SUMMARY:"Souveraine" – Retraite spéciale femmes
DESCRIPTION:Retraites immersives\n– 5 jours pour réveiller sa puissance féminine\, se réconcilier avec son histoire et incarner pleinement sa souveraineté intérieure. \n– Du 22 au 26 décembre 2025 \n– A Cézac à 40 min de Bordeaux\n\n \nEn savoir plus sur les retraites immersives
URL:https://soif-de-soi.com/event/se-liberer-pour-renaitre-2/
CATEGORIES:Retraites immersives
ATTACH;FMTTYPE=image/jpeg:https://soif-de-soi.com/wp-content/uploads/2025/07/souveraine.jpg
END:VEVENT
BEGIN:VEVENT
DTSTART;TZID=Europe/Paris:20251214T093000
DTEND;TZID=Europe/Paris:20251214T173000
DTSTAMP:20260421T103538
CREATED:20250804T090200Z
LAST-MODIFIED:20250804T090200Z
UID:2636-1765704600-1765733400@soif-de-soi.com
SUMMARY:Constellation familiale et systémique en groupe
DESCRIPTION:En groupe\, les constellations familiales et systémiques déploient une force collective qui révèle et libère les schémas transgénérationnels. Chaque participant\, qu’il constelle ou représente\, entre dans un champ de guérison puissant et transformateur.  \n\nEn savoir plus sur la Constellations familiales et systémiques
URL:https://soif-de-soi.com/event/constellation-2-2-4/
LOCATION:La Passerelle – Centre de Bien-Être et d’Éveil\, 51 chemin de Bos\, Saint Médard en Salles\, 33160\, France
CATEGORIES:Constellation familiale et systémique
ATTACH;FMTTYPE=image/jpeg:https://soif-de-soi.com/wp-content/uploads/2025/07/Dates-constellations-familiales-scaled.jpg
END:VEVENT
BEGIN:VEVENT
DTSTART;TZID=Europe/Paris:20251130T093000
DTEND;TZID=Europe/Paris:20251130T173000
DTSTAMP:20260421T103538
CREATED:20250804T085505Z
LAST-MODIFIED:20250804T085824Z
UID:2634-1764495000-1764523800@soif-de-soi.com
SUMMARY:Constellation familiale et systémique en groupe
DESCRIPTION:En groupe\, les constellations familiales et systémiques déploient une force collective qui révèle et libère les schémas transgénérationnels. Chaque participant\, qu’il constelle ou représente\, entre dans un champ de guérison puissant et transformateur.  \n\nEn savoir plus sur la Constellations familiales et systémiques
URL:https://soif-de-soi.com/event/constellation-2-2-3/
LOCATION:La Passerelle – Centre de Bien-Être et d’Éveil\, 51 chemin de Bos\, Saint Médard en Salles\, 33160\, France
CATEGORIES:Constellation familiale et systémique
ATTACH;FMTTYPE=image/jpeg:https://soif-de-soi.com/wp-content/uploads/2025/07/Dates-constellations-familiales-scaled.jpg
END:VEVENT
BEGIN:VEVENT
DTSTART;VALUE=DATE:20251114
DTEND;VALUE=DATE:20251117
DTSTAMP:20260421T103538
CREATED:20250730T161554Z
LAST-MODIFIED:20250804T084444Z
UID:2521-1763078400-1763337599@soif-de-soi.com
SUMMARY:"Se libérer pour renaître" – Retraite
DESCRIPTION:Retraites immersives\n\n– 3 jours pour accueillir\, déposer\, transformer et repartir avec un nouveau souffle de vie. \n– Du 14 au 16 novembre 2025 \n– A Cézac à 40 min de Bordeaux\n\n\n \nEn savoir plus sur les retraites immersives
URL:https://soif-de-soi.com/event/se-liberer-pour-renaitre/
CATEGORIES:Retraites immersives
ATTACH;FMTTYPE=image/jpeg:https://soif-de-soi.com/wp-content/uploads/2025/07/Retraites-immersives.jpg
END:VEVENT
BEGIN:VEVENT
DTSTART;TZID=Europe/Paris:20251102T093000
DTEND;TZID=Europe/Paris:20251102T093000
DTSTAMP:20260421T103539
CREATED:20250804T085440Z
LAST-MODIFIED:20250804T085950Z
UID:2632-1762075800-1762075800@soif-de-soi.com
SUMMARY:Constellation familiale et systémique en groupe
DESCRIPTION:En groupe\, les constellations familiales et systémiques déploient une force collective qui révèle et libère les schémas transgénérationnels. Chaque participant\, qu’il constelle ou représente\, entre dans un champ de guérison puissant et transformateur.  \n\nEn savoir plus sur la Constellations familiales et systémiques
URL:https://soif-de-soi.com/event/constellation-2-2-2/
LOCATION:La Passerelle – Centre de Bien-Être et d’Éveil\, 51 chemin de Bos\, Saint Médard en Salles\, 33160\, France
CATEGORIES:Constellation familiale et systémique
ATTACH;FMTTYPE=image/jpeg:https://soif-de-soi.com/wp-content/uploads/2025/07/Dates-constellations-familiales-scaled.jpg
END:VEVENT
BEGIN:VEVENT
DTSTART;TZID=Europe/Paris:20251018T093000
DTEND;TZID=Europe/Paris:20251018T173000
DTSTAMP:20260421T103539
CREATED:20250804T085331Z
LAST-MODIFIED:20250804T085621Z
UID:2630-1760779800-1760808600@soif-de-soi.com
SUMMARY:Constellation familiale et systémique en groupe
DESCRIPTION:En groupe\, les constellations familiales et systémiques déploient une force collective qui révèle et libère les schémas transgénérationnels. Chaque participant\, qu’il constelle ou représente\, entre dans un champ de guérison puissant et transformateur.  \n\nEn savoir plus sur la Constellations familiales et systémiques
URL:https://soif-de-soi.com/event/constellation-2-2/
LOCATION:La Passerelle – Centre de Bien-Être et d’Éveil\, 51 chemin de Bos\, Saint Médard en Salles\, 33160\, France
CATEGORIES:Constellation familiale et systémique
ATTACH;FMTTYPE=image/jpeg:https://soif-de-soi.com/wp-content/uploads/2025/07/Dates-constellations-familiales-scaled.jpg
END:VEVENT
BEGIN:VEVENT
DTSTART;TZID=Europe/Paris:20251004T093000
DTEND;TZID=Europe/Paris:20251004T173000
DTSTAMP:20260421T103539
CREATED:20250804T085234Z
LAST-MODIFIED:20250804T085234Z
UID:2628-1759570200-1759599000@soif-de-soi.com
SUMMARY:Constellation familiale et systémique en groupe
DESCRIPTION:En groupe\, les constellations familiales et systémiques déploient une force collective qui révèle et libère les schémas transgénérationnels. Chaque participant\, qu’il constelle ou représente\, entre dans un champ de guérison puissant et transformateur.  \n\nEn savoir plus sur la Constellations familiales et systémiques
URL:https://soif-de-soi.com/event/constellation-2/
LOCATION:La Passerelle – Centre de Bien-Être et d’Éveil\, 51 chemin de Bos\, Saint Médard en Salles\, 33160\, France
CATEGORIES:Constellation familiale et systémique
ATTACH;FMTTYPE=image/jpeg:https://soif-de-soi.com/wp-content/uploads/2025/07/Dates-constellations-familiales-scaled.jpg
END:VEVENT
BEGIN:VEVENT
DTSTART;TZID=Europe/Paris:20250906T093000
DTEND;TZID=Europe/Paris:20250906T173000
DTSTAMP:20260421T103539
CREATED:20250731T151959Z
LAST-MODIFIED:20250804T084849Z
UID:2558-1757151000-1757179800@soif-de-soi.com
SUMMARY:Constellation familiale et systémique en groupe
DESCRIPTION:En groupe\, les constellations familiales et systémiques déploient une force collective qui révèle et libère les schémas transgénérationnels. Chaque participant\, qu’il constelle ou représente\, entre dans un champ de guérison puissant et transformateur.  \n\nEn savoir plus sur la Constellations familiales et systémiques
URL:https://soif-de-soi.com/event/constellation/
LOCATION:La Passerelle – Centre de Bien-Être et d’Éveil\, 51 chemin de Bos\, Saint Médard en Salles\, 33160\, France
CATEGORIES:Constellation familiale et systémique
ATTACH;FMTTYPE=image/jpeg:https://soif-de-soi.com/wp-content/uploads/2025/07/Dates-constellations-familiales-scaled.jpg
END:VEVENT
END:VCALENDAR